BEGIN:VCALENDAR
VERSION:2.0
PRODID:-//Clearview Vineyard - ECPv4.6.14.1//NONSGML v1.0//EN
CALSCALE:GREGORIAN
METHOD:PUBLISH
X-WR-CALNAME:Clearview Vineyard
X-ORIGINAL-URL:https://clearviewvineyard.com
X-WR-CALDESC:Events for Clearview Vineyard
BEGIN:VEVENT
DTSTART;TZID=America/New_York:20171209T140000
DTEND;TZID=America/New_York:20171209T170000
DTSTAMP:20260425T225347
CREATED:20171127T133033Z
LAST-MODIFIED:20171127T133033Z
UID:31907-1512828000-1512838800@clearviewvineyard.com
SUMMARY:Debbie Fisher
DESCRIPTION:Debbie Fisher plays classic rock\, pop and country. \n \n
URL:https://clearviewvineyard.com/event/debbie-fisher-2/
CATEGORIES:Music at Clearview
END:VEVENT
END:VCALENDAR