BEGIN:VCALENDAR
VERSION:2.0
PRODID:-//Clearview Vineyard - ECPv4.6.14.1//NONSGML v1.0//EN
CALSCALE:GREGORIAN
METHOD:PUBLISH
X-WR-CALNAME:Clearview Vineyard
X-ORIGINAL-URL:https://clearviewvineyard.com
X-WR-CALDESC:Events for Clearview Vineyard
BEGIN:VEVENT
DTSTART;VALUE=DATE:20210404
DTEND;VALUE=DATE:20210405
DTSTAMP:20260423T045212
CREATED:20210218T145754Z
LAST-MODIFIED:20210218T151747Z
UID:32559-1617494400-1617580799@clearviewvineyard.com
SUMMARY:Closed for Easter
DESCRIPTION:We will be closed for Easter. \n
URL:https://clearviewvineyard.com/event/closed-for-easter-6/
CATEGORIES:Music at Clearview
END:VEVENT
END:VCALENDAR