BEGIN:VCALENDAR
VERSION:2.0
PRODID:-//Clearview Vineyard - ECPv4.6.14.1//NONSGML v1.0//EN
CALSCALE:GREGORIAN
METHOD:PUBLISH
X-WR-CALNAME:Clearview Vineyard
X-ORIGINAL-URL:https://clearviewvineyard.com
X-WR-CALDESC:Events for Clearview Vineyard
BEGIN:VEVENT
DTSTART;VALUE=DATE:20200412
DTEND;VALUE=DATE:20200413
DTSTAMP:20260425T144917
CREATED:20200227T141130Z
LAST-MODIFIED:20200227T141256Z
UID:32394-1586649600-1586735999@clearviewvineyard.com
SUMMARY:Closed for Easter
DESCRIPTION:Closed for Easter \nHave a wonderful day! \n
URL:https://clearviewvineyard.com/event/closed-for-easter-5/
CATEGORIES:Music at Clearview
END:VEVENT
END:VCALENDAR