BEGIN:VCALENDAR
VERSION:2.0
PRODID:-//Clearview Vineyard - ECPv4.6.14.1//NONSGML v1.0//EN
CALSCALE:GREGORIAN
METHOD:PUBLISH
X-WR-CALNAME:Clearview Vineyard
X-ORIGINAL-URL:https://clearviewvineyard.com
X-WR-CALDESC:Events for Clearview Vineyard
BEGIN:VEVENT
DTSTART;TZID=America/New_York:20180518T120000
DTEND;TZID=America/New_York:20180518T170000
DTSTAMP:20260425T214806
CREATED:20180430T172344Z
LAST-MODIFIED:20180430T204655Z
UID:31980-1526644800-1526662800@clearviewvineyard.com
SUMMARY:Book Signing "Homefront Cooking" by Tracey Enerson Wood
DESCRIPTION:Book Signing “Homefront Cooking” by Tracey Enerson Wood. \nTo purchase the book online go to: \nhttp://skyhorsepublishing.com/titles/13980-9781510728707-homefront-cooking \n \n
URL:https://clearviewvineyard.com/event/book-signing-homefront-cooking-by-tracey-enerson-wood/
CATEGORIES:Wine Trail Events Calendar
END:VEVENT
END:VCALENDAR