BEGIN:VCALENDAR
VERSION:2.0
PRODID:-//Clearview Vineyard - ECPv4.6.14.1//NONSGML v1.0//EN
CALSCALE:GREGORIAN
METHOD:PUBLISH
X-WR-CALNAME:Clearview Vineyard
X-ORIGINAL-URL:https://clearviewvineyard.com
X-WR-CALDESC:Events for Clearview Vineyard
BEGIN:VEVENT
DTSTART;TZID=America/New_York:20180513T140000
DTEND;TZID=America/New_York:20180513T170000
DTSTAMP:20260425T225939
CREATED:20180303T154319Z
LAST-MODIFIED:20180303T154319Z
UID:31942-1526220000-1526230800@clearviewvineyard.com
SUMMARY:Beki Brindle
DESCRIPTION:Beki Brindle plays classic rock\, originals and blues. \n \n
URL:https://clearviewvineyard.com/event/beki-brindle-8/
CATEGORIES:Music at Clearview
END:VEVENT
END:VCALENDAR