BEGIN:VCALENDAR
VERSION:2.0
PRODID:-//Clearview Vineyard - ECPv4.6.14.1//NONSGML v1.0//EN
CALSCALE:GREGORIAN
METHOD:PUBLISH
X-WR-CALNAME:Clearview Vineyard
X-ORIGINAL-URL:https://clearviewvineyard.com
X-WR-CALDESC:Events for Clearview Vineyard
BEGIN:VEVENT
DTSTART;TZID=America/New_York:20170604T140000
DTEND;TZID=America/New_York:20170604T170000
DTSTAMP:20260425T231254
CREATED:20170502T124316Z
LAST-MODIFIED:20170502T124316Z
UID:31661-1496584800-1496595600@clearviewvineyard.com
SUMMARY:Beki Brindle
DESCRIPTION:Beki Brindle was inducted into the New York \nBlues Hall of fame in June 2014.  A gifted \nguitarist who sings and plays blues\, pop and \nclassic rock. \n \n
URL:https://clearviewvineyard.com/event/beki-brindle-3/
CATEGORIES:Music at Clearview
END:VEVENT
END:VCALENDAR