BEGIN:VCALENDAR
VERSION:2.0
PRODID:-//Clearview Vineyard - ECPv4.6.14.1//NONSGML v1.0//EN
CALSCALE:GREGORIAN
METHOD:PUBLISH
X-WR-CALNAME:Clearview Vineyard
X-ORIGINAL-URL:https://clearviewvineyard.com
X-WR-CALDESC:Events for Clearview Vineyard
BEGIN:VEVENT
DTSTART;TZID=America/New_York:20200927T140000
DTEND;TZID=America/New_York:20200927T170000
DTSTAMP:20260423T222546
CREATED:20200826T110107Z
LAST-MODIFIED:20200826T111222Z
UID:32514-1601215200-1601226000@clearviewvineyard.com
SUMMARY:Beki Brindle
DESCRIPTION:Beki Brindle plays classic rock\, blues\, pop and her own music. \n \n  \n
URL:https://clearviewvineyard.com/event/beki-brindle-15/
CATEGORIES:Music at Clearview
END:VEVENT
END:VCALENDAR