BEGIN:VCALENDAR
VERSION:2.0
PRODID:-//Clearview Vineyard - ECPv4.6.14.1//NONSGML v1.0//EN
CALSCALE:GREGORIAN
METHOD:PUBLISH
X-WR-CALNAME:Clearview Vineyard
X-ORIGINAL-URL:https://clearviewvineyard.com
X-WR-CALDESC:Events for Clearview Vineyard
BEGIN:VEVENT
DTSTART;TZID=America/New_York:20200809T120000
DTEND;TZID=America/New_York:20200809T170000
DTSTAMP:20260424T140449
CREATED:20200723T104931Z
LAST-MODIFIED:20200723T104931Z
UID:32502-1596974400-1596992400@clearviewvineyard.com
SUMMARY:Alex Phillips
DESCRIPTION:Alex Phillips plays classic rock\, blues and pop. \n \n
URL:https://clearviewvineyard.com/event/alex-phillips/
CATEGORIES:Music at Clearview
END:VEVENT
END:VCALENDAR